BEGIN:VCALENDAR
VERSION:2.0
PRODID:-//ICARDA - Learning - ECPv6.6.4.2//NONSGML v1.0//EN
CALSCALE:GREGORIAN
METHOD:PUBLISH
X-WR-CALNAME:ICARDA - Learning
X-ORIGINAL-URL:https://icarda.learning.humentum.org
X-WR-CALDESC:Events for ICARDA - Learning
REFRESH-INTERVAL;VALUE=DURATION:PT1H
X-Robots-Tag:noindex
X-PUBLISHED-TTL:PT1H
BEGIN:VTIMEZONE
TZID:UTC
BEGIN:STANDARD
TZOFFSETFROM:+0000
TZOFFSETTO:+0000
TZNAME:UTC
DTSTART:20230101T000000
END:STANDARD
TZID:Europe/Helsinki
BEGIN:DAYLIGHT
TZOFFSETFROM:+0200
TZOFFSETTO:+0300
TZNAME:EEST
DTSTART:20230326T010000
END:DAYLIGHT
BEGIN:STANDARD
TZOFFSETFROM:+0300
TZOFFSETTO:+0200
TZNAME:EET
DTSTART:20231029T010000
END:STANDARD
END:VTIMEZONE
BEGIN:VEVENT
DTSTART;TZID=UTC:20230324T080000
DTEND;TZID=UTC:20230331T170000
DTSTAMP:20260425T103224
CREATED:20230327T103053Z
LAST-MODIFIED:20230327T103053Z
UID:234-1679644800-1680282000@icarda.learning.humentum.org
SUMMARY:English Language Placement Tests
DESCRIPTION:
URL:https://icarda.learning.humentum.org/event/english-language-placement-tests/
END:VEVENT
BEGIN:VEVENT
DTSTART;TZID=Europe/Helsinki:20230306T140000
DTEND;TZID=Europe/Helsinki:20230316T140000
DTSTAMP:20260425T103224
CREATED:20230109T095420Z
LAST-MODIFIED:20230327T102909Z
UID:170-1678111200-1678975200@icarda.learning.humentum.org
SUMMARY:PMP Course
DESCRIPTION:Project Management Professional Fundamentals training course run by the American Chamber of Commerce in Egypt (Accredited PMP trainers).
URL:https://icarda.learning.humentum.org/event/test-event/
LOCATION:American Chamber of Commerce\, Interactive Online Course
CATEGORIES:Project Management
ATTACH;FMTTYPE=image/png:https://icarda.learning.humentum.org/wp-content/uploads/sites/144/2021/08/Logo.png
ORGANIZER;CN="ICARDA":MAILTO:icarda-hr-forms@cgiar.org
END:VEVENT
END:VCALENDAR